BEGIN:VCALENDAR
VERSION:2.0
PRODID:-//ChamberMaster//Event Calendar 2.0//EN
METHOD:PUBLISH
X-PUBLISHED-TTL:P3D
REFRESH-INTERVAL:P3D
CALSCALE:GREGORIAN
BEGIN:VEVENT
DTSTART;VALUE=DATE:20250714
DTEND;VALUE=DATE:20250719
TRANSP:TRANSPARENT
X-MICROSOFT-CDO-ALLDAYEVENT:TRUE
SUMMARY:LEGO Art Lab – Design\, Build & Create Camp July 14 -18
DESCRIPTION:Digital Creativity & Visual Design\n\nThis week is all about blending tech with art! Kids will build interactive scenes\, design digital posters\, and even create their own LEGO comic books featuring their builds. Campers will use design tools and coding to turn big ideas into digital masterpieces.
X-ALT-DESC;FMTTYPE=text/html:<p>Digital Creativity &amp\; Visual Design</p>\n\n<p>This week is all about blending tech with art! Kids&nbsp\;will build interactive scenes\, design digital posters\,&nbsp\;and even create their own LEGO comic books&nbsp\;featuring their builds. Campers will use design tools&nbsp\;and coding to turn big ideas into digital masterpieces.</p>\n
LOCATION:1010 Corporate Drive\, Suite 103 Stafford\, VA 22554
UID:e.492.14932
SEQUENCE:3
DTSTAMP:20260422T005051Z
URL:https://members.fredericksburgchamber.org/events/details/lego-art-lab-design-build-create-camp-july-14-18-14932
END:VEVENT

END:VCALENDAR
