BEGIN:VCALENDAR
VERSION:2.0
PRODID:-//ChamberMaster//Event Calendar 2.0//EN
METHOD:PUBLISH
X-PUBLISHED-TTL:P3D
REFRESH-INTERVAL:P3D
CALSCALE:GREGORIAN
BEGIN:VEVENT
DTSTART:20220924T150000Z
DTEND:20220924T220000Z
X-MICROSOFT-CDO-ALLDAYEVENT:FALSE
SUMMARY:Let the Gourd Times Roll Family Fall Festival
DESCRIPTION:Free\, fun family-friendly event for the whole community featuring music rom the Dixie Power Trio band\, a variety of vendors for early holiday shopping\, information from community non-profits\, games for kids and the young at heart\, entertainment from community groups\, food trucks\, brew from 6 Bears and a Goat\, and much more!
X-ALT-DESC;FMTTYPE=text/html:Free\, fun family-friendly event for the whole community featuring music rom the Dixie Power Trio band\, a variety of vendors for early holiday shopping\, information from community non-profits\, games for kids and the young at heart\, entertainment from community groups\, food trucks\, brew from 6 Bears and a Goat\, and much more!
LOCATION:Fredericksburg Fairgrounds
UID:e.492.13109
SEQUENCE:3
DTSTAMP:20260422T194551Z
URL:https://members.fredericksburgchamber.org/events/details/let-the-gourd-times-roll-family-fall-festival-13109
END:VEVENT

END:VCALENDAR
