BEGIN:VCALENDAR
VERSION:2.0
PRODID:-//ChamberMaster//Event Calendar 2.0//EN
METHOD:PUBLISH
X-PUBLISHED-TTL:P3D
REFRESH-INTERVAL:P3D
CALSCALE:GREGORIAN
BEGIN:VEVENT
DTSTART:20230511T200000Z
DTEND:20230511T230000Z
X-MICROSOFT-CDO-ALLDAYEVENT:FALSE
SUMMARY:Lets celebrate our Mothers!
DESCRIPTION:Join us at Revive for an awesome party celebrating our dear Mothers and a chance to win a 'Revive raffle basket for Mom' worth $2\,500!!! \n\n\n\nWe are hosting our Lips\, Lines\, and Lids event party celebrating our Mom's. Enjoy hors d'oeuvres and cocktails on us!\n\n\n\nSpecial event promotion for pre purchase:\n\n\n\n-Buy 40 Units of Jeuveau\, Get 20 free ($600)\n\n-Buy 30 Units of Jeuveau & 1 Syringe of filler ($800)\n\n-Buy 1 Syringe of filler\, Get $100 off ($550)\n\n-Buy 2 Syringes of filler\, Get $200 off ($1050)\n\n-Buy 3 Syringes of filler\, Get $400 off ($1550)\n\n-Get a 45 day supply of Upneeq\, Get 10% off ($180)\n\n-All Service packages and products 10% off\n\n\n\n\n\n*ALL SPECIALS MUST BE USED IN ONE VISIT. AVAILABLE TO USE UP TO A YEAR FROM THE PURCHASE DATE*
X-ALT-DESC;FMTTYPE=text/html:Join us at Revive for an awesome party celebrating our dear Mothers and a chance to win a &#39\;Revive raffle basket for Mom&#39\; worth $2\,500!!!&nbsp\;<br />\n<br />\nWe are hosting our Lips\, Lines\, and Lids event party celebrating our Mom&#39\;s. Enjoy hors d&#39\;oeuvres and cocktails on us!<br />\n<br />\nSpecial event promotion for pre purchase:<br />\n<br />\n-Buy 40 Units of Jeuveau\, Get 20 free ($600)<br />\n-Buy 30 Units of Jeuveau &amp\; 1 Syringe of filler ($800)<br />\n-Buy 1 Syringe of filler\, Get $100 off ($550)<br />\n-Buy 2 Syringes of filler\, Get $200 off ($1050)<br />\n-Buy 3 Syringes of filler\, Get $400 off ($1550)<br />\n-Get a 45 day supply of Upneeq\, Get 10% off ($180)<br />\n-All Service packages and products 10% off<br />\n<br />\n<br />\n*ALL SPECIALS MUST BE USED IN ONE VISIT. AVAILABLE TO USE UP TO A YEAR FROM THE PURCHASE DATE*
LOCATION:Revive Med Aesthetics 2553 Cowan Blvd\, Fredericksburg\, VA 22401 Ph: 540-249-6240
UID:e.492.13539
SEQUENCE:3
DTSTAMP:20260422T084757Z
URL:https://members.fredericksburgchamber.org/events/details/lets-celebrate-our-mothers-13539
END:VEVENT

END:VCALENDAR
