BEGIN:VCALENDAR
VERSION:2.0
PRODID:-//ChamberMaster//Event Calendar 2.0//EN
METHOD:PUBLISH
X-PUBLISHED-TTL:P3D
REFRESH-INTERVAL:P3D
CALSCALE:GREGORIAN
BEGIN:VEVENT
DTSTART:20230413T153000Z
DTEND:20230413T170000Z
X-MICROSOFT-CDO-ALLDAYEVENT:FALSE
SUMMARY:LEVERAGING THE TALENT OF MILITARY VETERANS AND RESERVISTS
DESCRIPTION:The U.S. has approximately 15 million military veterans and reservists in the workforce\, spread across all industries\, sectors\, and professions. They bring rare talents and experiences to their workplaces. Wise leaders seek to leverage those advantages for the good of their own organizations. This presentation seeks to explain the advantages of hiring veterans and reservists\, provides concrete recommendations on how best to leverage their capabilities\, and explains other ways in which your organization can benefit through engagement with veterans and reservists.
X-ALT-DESC;FMTTYPE=text/html:The U.S. has approximately 15 million military veterans and reservists in the workforce\, spread across all industries\, sectors\, and professions. They bring rare talents and experiences to their workplaces. Wise leaders seek to leverage those advantages for the good of their own organizations. This presentation seeks to explain the advantages of hiring veterans and reservists\, provides concrete recommendations on how best to leverage their capabilities\, and explains other ways in which your organization can benefit through engagement with veterans and reservists.
LOCATION:Virtual Meeting/ Zoom link will be provided after registration.
UID:e.492.13457
SEQUENCE:3
DTSTAMP:20260422T085301Z
URL:https://members.fredericksburgchamber.org/events/details/leveraging-the-talent-of-military-veterans-and-reservists-13457
END:VEVENT

END:VCALENDAR
