BEGIN:VCALENDAR
VERSION:2.0
PRODID:-//ChamberMaster//Event Calendar 2.0//EN
METHOD:PUBLISH
X-PUBLISHED-TTL:P3D
REFRESH-INTERVAL:P3D
CALSCALE:GREGORIAN
BEGIN:VEVENT
DTSTART:20221117T230000Z
DTEND:20221118T000000Z
X-MICROSOFT-CDO-ALLDAYEVENT:FALSE
SUMMARY:Light Up A Life Illumination
DESCRIPTION:Mary Washington Healthcare Hospice Services presents the fifth annual Light Up a Life Illumination. Purchase a luminary to honor and remember a friend\, family member\, or loved one. Their name will be read aloud and a light will shine in their honor. Join us for the virtual event on the Mary Washington Healthcare Facebook page\, Thursday\, November 17 from 6:00 p.m.   7:00 p.m. Proceeds support Mary Washington Hospice Services in their mission to provide compassionate end-of-life services for patients and their families\, in addition to bereavement support for family members for over a year.
X-ALT-DESC;FMTTYPE=text/html:Mary Washington Healthcare Hospice Services presents the fifth annual Light Up a Life Illumination. Purchase a luminary to honor and remember a friend\, family member\, or loved one. Their name will be read aloud and a light will shine in their honor. Join us for the virtual event on the Mary Washington Healthcare Facebook page\, Thursday\, November 17 from 6:00 p.m. &ndash\; 7:00 p.m. Proceeds support Mary Washington Hospice Services in their mission to provide compassionate end-of-life services for patients and their families\, in addition to bereavement support for family members for over a year.
LOCATION:Mary Washington Healthcare Facebook Page
UID:e.492.13144
SEQUENCE:3
DTSTAMP:20260422T163657Z
URL:https://members.fredericksburgchamber.org/events/details/light-up-a-life-illumination-13144
END:VEVENT

END:VCALENDAR
