BEGIN:VCALENDAR
VERSION:2.0
PRODID:-//ChamberMaster//Event Calendar 2.0//EN
METHOD:PUBLISH
X-PUBLISHED-TTL:P3D
REFRESH-INTERVAL:P3D
CALSCALE:GREGORIAN
BEGIN:VEVENT
DTSTART;VALUE=DATE:20240217
DTEND;VALUE=DATE:20240220
TRANSP:TRANSPARENT
X-MICROSOFT-CDO-ALLDAYEVENT:TRUE
SUMMARY:Limited Showings: Flags of our Fathers
DESCRIPTION:The life stories of the six men who raised the flag at the Battle of Iwo Jima\, a turning point in World War II. Rated: R\, for sequences of graphic war violence and carnage\, and for language Showing: February 17\, 18 & 19 (10:30am and 2pm) Medal of Honor Theater inside of the National Museum of the Marine Corps Reserve your seat now: https://scnv.io/C6eW \, $10 per ticket Admission to the Museum and parking are FREE and open to the public.
X-ALT-DESC;FMTTYPE=text/html:The life stories of the six men who raised the flag at the Battle of Iwo Jima\, a turning point in World War II. Rated: R\, for sequences of graphic war violence and carnage\, and for language Showing: February 17\, 18 &amp\; 19 (10:30am and 2pm) Medal of Honor Theater inside of the National Museum of the Marine Corps Reserve your seat now: https://scnv.io/C6eW \, $10 per ticket Admission to the Museum and parking are FREE and open to the public.
LOCATION:National Museum of the Marine Corps' Medal of Honor Theater
UID:e.492.13859
SEQUENCE:3
DTSTAMP:20260422T024516Z
URL:https://members.fredericksburgchamber.org/events/details/limited-showings-flags-of-our-fathers-13859
END:VEVENT

END:VCALENDAR
