BEGIN:VCALENDAR
VERSION:2.0
PRODID:-//ChamberMaster//Event Calendar 2.0//EN
METHOD:PUBLISH
X-PUBLISHED-TTL:P3D
REFRESH-INTERVAL:P3D
CALSCALE:GREGORIAN
BEGIN:VEVENT
DTSTART:20161129T223000Z
DTEND:20161130T003000Z
X-MICROSOFT-CDO-ALLDAYEVENT:FALSE
SUMMARY:MAC Year-End Report to the Community & 2017 Preview
DESCRIPTION:Military Affairs Council Year-End Report to the Community & 2017 Preview\n\n\n\nHeld in November\, this annual dinner provides participants with a comprehensive review of the accomplishments and upcoming needs of our local military bases. Guests will have the opportunity to meet\, and hear updates from\, the local Base Commanders\, as well as a keynote speaker.\n\n\n\nLearn about the role of the military in our region and about possible opportunities for your business to provide much-needed products and/or services to these military facilities. \n\n\n\nGuest Speakers Include:\n\n\n\nKeynote Speaker: MG Timothy P. Williams - Adjutant General Of Virginia\n\n\n\nInstallation Representatives:\n\nCOL. Joseph Murray - Marine Corps Base Quantico\n\nCAPT. Mary Feinberg - Naval Support Activity So. Potomac\n\nMr. Pete Sun - Fort A.P. Hill\n\nCPT. Chandler Pearson - VA Army National Guard\n\n\n\nDinner Menu:\n\nGarden Salad\n\nCrab Cakes or Chicken Marsala\n\nWhipped Potatoes\n\nRoasted Asparagus\n\nAssorted Cakes & Pies
X-ALT-DESC;FMTTYPE=text/html:<strong><em><span style="font-size:12.0pt\;">Military Affairs Council Year-End Report to the Community &amp\; 2017 Preview</span></em></strong><br />\n<br />\n<em><span style="font-family:arial\,sans-serif\;">Held in November\, this annual dinner provides participants with a comprehensive review of the accomplishments and upcoming needs of our local military bases. Guests will have the opportunity to meet\, and hear updates from\, the local Base Commanders\, as well as a keynote speaker.<br />\n<br />\nLearn about the role of the military in our region and about possible opportunities for your business to provide much-needed products and/or services to these military facilities.&nbsp\;</span></em><br />\n<br />\nGuest Speakers Include:<br />\n<br />\n<span style="color:#B22222\;">Keynote Speaker:</span> MG Timothy P. Williams - Adjutant General Of Virginia<br />\n<br />\n<span style="color:#B22222\;">Installation Representatives</span>:<br />\nCOL. Joseph Murray - Marine Corps Base&nbsp\;Quantico<br />\nCAPT. Mary Feinberg - Naval Support Activity So. Potomac<br />\nMr. Pete Sun - Fort A.P. Hill<br />\nCPT. Chandler Pearson - VA Army National Guard<br />\n<br />\n<span style="color:#B22222\;">Dinner Menu</span>:<br />\nGarden Salad<br />\nCrab Cakes or Chicken Marsala<br />\nWhipped Potatoes<br />\nRoasted Asparagus<br />\nAssorted Cakes &amp\; Pies
LOCATION:Fick Conference Center 1301 Sam Perry Blvd Fredericksburg\, VA 22401
UID:e.492.4978
SEQUENCE:3
DTSTAMP:20260421T121553Z
URL:https://members.fredericksburgchamber.org/events/details/mac-year-end-report-to-the-community-2017-preview-4978
END:VEVENT

END:VCALENDAR
