BEGIN:VCALENDAR
VERSION:2.0
PRODID:-//ChamberMaster//Event Calendar 2.0//EN
METHOD:PUBLISH
X-PUBLISHED-TTL:P3D
REFRESH-INTERVAL:P3D
CALSCALE:GREGORIAN
BEGIN:VEVENT
DTSTART:20230314T120000Z
DTEND:20230314T130000Z
X-MICROSOFT-CDO-ALLDAYEVENT:FALSE
SUMMARY:March's Monthly Coffee Talk
DESCRIPTION:This event takes place monthly\, with themed discussions led by local leaders\, and all are welcome. Please join us in person! March's Coffee Talk will be led by Kimberly Young\, Associate Provost for Career and Workforce at the University of Mary Washington\, discussing the topic of The Power of Rest. We often plan our days\, our projects\, or strategic initiatives very carefully with timelines and activities. But how often do we pencil rest into that plan? Networking is the best thing you can do for your own professional development! Share\, learn and grow from other professionals in the Fredericksburg area. Please Register Here     http://events.constantcontact.com/register/event?llr=jrfmz85ab&oeidk=a07ejndionv7eef4053
X-ALT-DESC;FMTTYPE=text/html:This event takes place monthly\, with themed discussions led by local leaders\, and all are welcome. Please join us in person! March&#39\;s Coffee Talk will be led by Kimberly Young\, Associate Provost for Career and Workforce at the University of Mary Washington\, discussing the topic of The Power of Rest. We often plan our days\, our projects\, or strategic initiatives very carefully with timelines and activities. But how often do we pencil rest into that plan? Networking is the best thing you can do for your own professional development! Share\, learn and grow from other professionals in the Fredericksburg area. Please Register Here &gt\; &gt\; http://events.constantcontact.com/register/event?llr=jrfmz85ab&amp\;oeidk=a07ejndionv7eef4053
LOCATION:Kalnen Inn Living Room Jepson Alumni and Executive Center 1119 Hanover St\, Fredericksburg\, VA 22401 Street parking is available on Hanover Street
UID:e.492.13423
SEQUENCE:3
DTSTAMP:20260422T101327Z
URL:https://members.fredericksburgchamber.org/events/details/march-s-monthly-coffee-talk-13423
END:VEVENT

END:VCALENDAR
