BEGIN:VCALENDAR
VERSION:2.0
PRODID:-//ChamberMaster//Event Calendar 2.0//EN
METHOD:PUBLISH
X-PUBLISHED-TTL:P3D
REFRESH-INTERVAL:P3D
CALSCALE:GREGORIAN
BEGIN:VEVENT
DTSTART;VALUE=DATE:20250518
DTEND;VALUE=DATE:20250519
TRANSP:TRANSPARENT
X-MICROSOFT-CDO-ALLDAYEVENT:TRUE
SUMMARY:MARINE CORPS HISTORIC HALF
DESCRIPTION:Experience the Marine Corps Historic Half!  Run from Central Park through beautiful\, historic downtown and conquer the race at Hospital Hill\, up Cowen toward the Finish line at Central Park near Wegman's.
X-ALT-DESC;FMTTYPE=text/html:Experience the Marine Corps Historic Half!&nbsp\; Run from Central Park through beautiful\, historic downtown and conquer the race at Hospital Hill\, up Cowen toward the Finish line at Central Park near Wegman&#39\;s.&nbsp\;&nbsp\;
LOCATION:Central Park\, Carl D. Silver Parkway\, Fredericksburg\, VA
UID:e.492.14558
SEQUENCE:3
DTSTAMP:20260422T053229Z
URL:https://members.fredericksburgchamber.org/events/details/marine-corps-historic-half-05-18-2025-14558
END:VEVENT

END:VCALENDAR
