BEGIN:VCALENDAR
VERSION:2.0
PRODID:-//ChamberMaster//Event Calendar 2.0//EN
METHOD:PUBLISH
X-PUBLISHED-TTL:P3D
REFRESH-INTERVAL:P3D
CALSCALE:GREGORIAN
BEGIN:VEVENT
DTSTART:20221219T160000Z
DTEND:20221219T180000Z
X-MICROSOFT-CDO-ALLDAYEVENT:FALSE
SUMMARY:Marketing For The New Year
DESCRIPTION:Developing a business plan for realtors and loan originators for 2023.
X-ALT-DESC;FMTTYPE=text/html:Developing a business plan for realtors and loan originators for 2023.
LOCATION:Fredericksburg Area Association of Realtors 2050 Gordon W. Shelton Blvd\, Fredericksburg\, VA 22401
UID:e.492.13273
SEQUENCE:3
DTSTAMP:20260422T163949Z
URL:https://members.fredericksburgchamber.org/events/details/marketing-for-the-new-year-13273
END:VEVENT

END:VCALENDAR
