BEGIN:VCALENDAR
VERSION:2.0
PRODID:-//ChamberMaster//Event Calendar 2.0//EN
METHOD:PUBLISH
X-PUBLISHED-TTL:P3D
REFRESH-INTERVAL:P3D
CALSCALE:GREGORIAN
BEGIN:VEVENT
DTSTART:20230322T220000Z
DTEND:20230322T233000Z
X-MICROSOFT-CDO-ALLDAYEVENT:FALSE
SUMMARY:Meet the Builder
DESCRIPTION:Join us for an informative Meet the Builder event! Interact with experts and guests while you learn just how easy it is to find land and build the custom home of your dreams. We're America's Home Place! This event is great for anyone thinking about building a new home.
X-ALT-DESC;FMTTYPE=text/html:Join us for an informative Meet the Builder event! Interact with experts and guests while you learn just how easy it is to find land and build the custom home of your dreams. We&#39\;re America&#39\;s Home Place! This event is great for anyone thinking about building a new home.
LOCATION:America's Home Place 1287 B Central Park Blvd Fredericksburg\, VA 22401
UID:e.492.13292
SEQUENCE:3
DTSTAMP:20260422T115109Z
URL:https://members.fredericksburgchamber.org/events/details/meet-the-builder-03-22-2023-13292
END:VEVENT

END:VCALENDAR
