BEGIN:VCALENDAR
VERSION:2.0
PRODID:-//ChamberMaster//Event Calendar 2.0//EN
METHOD:PUBLISH
X-PUBLISHED-TTL:P3D
REFRESH-INTERVAL:P3D
CALSCALE:GREGORIAN
BEGIN:VEVENT
DTSTART:20230118T230000Z
DTEND:20230119T003000Z
X-MICROSOFT-CDO-ALLDAYEVENT:FALSE
SUMMARY:Meet the Builder
DESCRIPTION:Join us for an informative Meet the Builder event! Interact with experts and guests while you learn just how easy it is to find land and build the custom home of your dreams. Great for anyone thinking about building a new home. We're America's Home Place!
X-ALT-DESC;FMTTYPE=text/html:Join us for an informative Meet the Builder event! Interact with experts and guests while you learn just how easy it is to find land and build the custom home of your dreams. Great for anyone thinking about building a new home. We&#39\;re America&#39\;s Home Place!
LOCATION:America's Home Place 1287 B Central Park Blvd Fredericksburg\, VA 22401
UID:e.492.13290
SEQUENCE:3
DTSTAMP:20260422T132725Z
URL:https://members.fredericksburgchamber.org/events/details/meet-the-builder-13290
END:VEVENT

END:VCALENDAR
