BEGIN:VCALENDAR
VERSION:2.0
PRODID:-//ChamberMaster//Event Calendar 2.0//EN
METHOD:PUBLISH
X-PUBLISHED-TTL:P3D
REFRESH-INTERVAL:P3D
CALSCALE:GREGORIAN
BEGIN:VEVENT
DTSTART:20240523T190000Z
DTEND:20240524T170000Z
X-MICROSOFT-CDO-ALLDAYEVENT:FALSE
SUMMARY:Meet the USMC Mounted Color Guard
DESCRIPTION:Join us at the National Museum of the Marine Corps on May 23 & 24 for an extraordinary opportunity to meet the prestigious USMC Mounted Color Guard! This rare visit to the East Coast is a unique chance to witness these magnificent horses and their skilled Marines in action. Dates: May 23 from 3 to 6 pm and May 24 from 10 am to 1 pm Location: National Museum of the Marine Corps Don't miss out on live demonstrations and friendly meet-and-greets with the last remaining Mounted Color Guard in the Marine Corps! It's the perfect prelude to Memorial Day weekend! While here\, participate in our Memorial Day tradition of placing mini American flags throughout Semper Fidelis Memorial Park. Celebrate with us\, experience living history\, and pay tribute to our heroes. Let's honor those who serve with pride and distinction. See you there!
X-ALT-DESC;FMTTYPE=text/html:Join us at the National Museum of the Marine Corps on May 23 &amp\; 24 for an extraordinary opportunity to meet the prestigious USMC Mounted Color Guard! This rare visit to the East Coast is a unique chance to witness these magnificent horses and their skilled Marines in action. Dates: May 23 from 3 to 6 pm and May 24 from 10 am to 1 pm Location: National Museum of the Marine Corps Don&#39\;t miss out on live demonstrations and friendly meet-and-greets with the last remaining Mounted Color Guard in the Marine Corps! It&rsquo\;s the perfect prelude to Memorial Day weekend! While here\, participate in our Memorial Day tradition of placing mini American flags throughout Semper Fidelis Memorial Park. Celebrate with us\, experience living history\, and pay tribute to our heroes. Let&#39\;s honor those who serve with pride and distinction. See you there!
LOCATION:National Museum of the Marines Corps 1775 Semper Fidelis Way Triangle\, VA 22172
UID:e.492.13985
SEQUENCE:3
DTSTAMP:20260422T084746Z
URL:https://members.fredericksburgchamber.org/events/details/meet-the-usmc-mounted-color-guard-13985
END:VEVENT

END:VCALENDAR
