BEGIN:VCALENDAR
VERSION:2.0
PRODID:-//ChamberMaster//Event Calendar 2.0//EN
METHOD:PUBLISH
X-PUBLISHED-TTL:P3D
REFRESH-INTERVAL:P3D
CALSCALE:GREGORIAN
BEGIN:VEVENT
DTSTART:20250820T133000Z
DTEND:20250820T143000Z
X-MICROSOFT-CDO-ALLDAYEVENT:FALSE
SUMMARY:Member Marketing Meet Up
DESCRIPTION:Attend a marketing help session led by Gretchen Rusden\, Marketing Director\, and April Milupi\, Marketing Specialist\, for valuable guidance tailored to business owners. These experts provide strategic advice to help you focus on the most effective marketing approaches for your goals. Gain fresh perspectives\, actionable insights\, and valuable networking opportunities. You'll leave with clear\, practical takeaways that boost your confidence\, enhance your marketing efforts\, and contribute to your business's growth all while saving you time.
X-ALT-DESC;FMTTYPE=text/html:<p style="text-align: center\;">Attend a marketing help session led by Gretchen Rusden\, Marketing Director\, and April Milupi\, Marketing Specialist\, for valuable guidance tailored to business owners. These experts provide strategic advice to help you focus on the most effective marketing approaches for your goals. Gain fresh perspectives\, actionable insights\, and valuable networking opportunities. You&#39\;ll leave with clear\, practical takeaways that boost your confidence\, enhance your marketing efforts\, and contribute to your business&#39\;s growth&mdash\;all while saving you time.</p>\n
LOCATION:Chamber Conference Room 1701 Fall Hill Ave. Suite 106 Fredericksburg\, VA 22401
UID:e.492.14861
SEQUENCE:3
DTSTAMP:20260422T002416Z
URL:https://members.fredericksburgchamber.org/events/details/member-marketing-meet-up-14861
END:VEVENT

END:VCALENDAR
