BEGIN:VCALENDAR
VERSION:2.0
PRODID:-//ChamberMaster//Event Calendar 2.0//EN
METHOD:PUBLISH
X-PUBLISHED-TTL:P3D
REFRESH-INTERVAL:P3D
CALSCALE:GREGORIAN
BEGIN:VEVENT
DTSTART:20240118T170000Z
DTEND:20240118T183000Z
X-MICROSOFT-CDO-ALLDAYEVENT:FALSE
SUMMARY:Member Meeting: State of the Chamber
DESCRIPTION:Join us for State of the Chamber on January 18th\, 2024\, from 12 to 1:30 pm. Barry DuVal\, President & CEO of the Virginia Chamber\, will provide keynote remarks to include an update from\n\nthe Blueprint Virginia 2030 plan and the Virginia Chamber's economic competitive agenda for the 2024 General Assembly session.
X-ALT-DESC;FMTTYPE=text/html:<p style="color: rgb(36\, 36\, 36)\; font-size: 12pt\; font-family: &quot\;Times New Roman&quot\;\, serif\; margin: 0px\;"><span style="font-family:arial\;"><span style="border: 0px\; font-style: inherit\; font-variant: inherit\; font-weight: inherit\; font-stretch: inherit\; font-size: inherit\; line-height: inherit\; font-optical-sizing: inherit\; font-kerning: inherit\; font-feature-settings: inherit\; font-variation-settings: inherit\; margin: 0px\; padding: 0px\; vertical-align: baseline\; color: inherit\;">Join us for State of the Chamber on January 18th\, 2024\, from 12 to 1:30 pm. Barry DuVal\, President &amp\; CEO of the Virginia Chamber\, will provide keynote remarks to include an update from</span></span></p>\n\n<p style="color: rgb(36\, 36\, 36)\; font-size: 12pt\; font-family: &quot\;Times New Roman&quot\;\, serif\; margin: 0px\;"><span style="font-family:arial\;"><span style="border: 0px\; font-style: inherit\; font-variant: inherit\; font-weight: inherit\; font-stretch: inherit\; font-size: inherit\; line-height: inherit\; font-optical-sizing: inherit\; font-kerning: inherit\; font-feature-settings: inherit\; font-variation-settings: inherit\; margin: 0px\; padding: 0px\; vertical-align: baseline\; color: inherit\;">the Blueprint Virginia 2030 plan and the Virginia Chamber&rsquo\;s economic competitive agenda for the 2024 General Assembly session.</span></span></p>\n
LOCATION:Jepson Alumni Executive Center 1119 Hanover St Fredericksburg\, VA 22401
UID:e.492.13771
SEQUENCE:3
DTSTAMP:20260422T005355Z
URL:https://members.fredericksburgchamber.org/events/details/member-meeting-state-of-the-chamber-13771
END:VEVENT

END:VCALENDAR
