BEGIN:VCALENDAR
VERSION:2.0
PRODID:-//ChamberMaster//Event Calendar 2.0//EN
METHOD:PUBLISH
X-PUBLISHED-TTL:P3D
REFRESH-INTERVAL:P3D
CALSCALE:GREGORIAN
BEGIN:VEVENT
DTSTART:20250129T170000Z
DTEND:20250129T183000Z
X-MICROSOFT-CDO-ALLDAYEVENT:FALSE
SUMMARY:Member Meeting: State of the Chamber
DESCRIPTION:Join us for State of the Chamber on January 29th\, 2025\, from 12 to 1:30 pm.
X-ALT-DESC;FMTTYPE=text/html:<p style="color: rgb(36\, 36\, 36)\; font-size: 12pt\; font-family: &quot\;Times New Roman&quot\;\, serif\; margin: 0px\;"><span style="font-family:arial\;"><span style="border: 0px\; font-style: inherit\; font-variant: inherit\; font-weight: inherit\; font-stretch: inherit\; font-size: inherit\; line-height: inherit\; font-optical-sizing: inherit\; font-kerning: inherit\; font-feature-settings: inherit\; font-variation-settings: inherit\; margin: 0px\; padding: 0px\; vertical-align: baseline\; color: inherit\;">Join us for State of the Chamber on January 29th\, 2025\, from 12 to 1:30 pm. </span></span></p>\n
LOCATION:Fredericksburg Country Club 11031 Tidewater Tr. Fredericksburg\, VA 22408
UID:e.492.14323
SEQUENCE:3
DTSTAMP:20260424T144137Z
URL:https://members.fredericksburgchamber.org/events/details/member-meeting-state-of-the-chamber-14323
END:VEVENT

END:VCALENDAR
