BEGIN:VCALENDAR
VERSION:2.0
PRODID:-//ChamberMaster//Event Calendar 2.0//EN
METHOD:PUBLISH
X-PUBLISHED-TTL:P3D
REFRESH-INTERVAL:P3D
CALSCALE:GREGORIAN
BEGIN:VEVENT
DTSTART:20230324T220000Z
DTEND:20230325T030000Z
X-MICROSOFT-CDO-ALLDAYEVENT:FALSE
SUMMARY:Men’s Fellowship
DESCRIPTION:Calling Men of all ages to Come and Worship With Us in Prayer\, Praise\, Dinner and The Word. Dinner will be served at 6pm and it's FREE. However you must register at: https://www.evite.com/event/0368S6BRIL7ZNADPWEPNUBCD7O3J7Y
X-ALT-DESC;FMTTYPE=text/html:Calling Men of all ages to Come and Worship With Us in Prayer\, Praise\, Dinner and The Word. Dinner will be served at 6pm and it&rsquo\;s FREE. However you must register at: https://www.evite.com/event/0368S6BRIL7ZNADPWEPNUBCD7O3J7Y
LOCATION:Zion Church of Fredericksburg 2222 Emancipation Hwy Fredericksburg\, VA 22401
UID:e.492.13425
SEQUENCE:3
DTSTAMP:20260422T101204Z
URL:https://members.fredericksburgchamber.org/events/details/men-s-fellowship-13425
END:VEVENT

END:VCALENDAR
