BEGIN:VCALENDAR
VERSION:2.0
PRODID:-//ChamberMaster//Event Calendar 2.0//EN
METHOD:PUBLISH
X-PUBLISHED-TTL:P3D
REFRESH-INTERVAL:P3D
CALSCALE:GREGORIAN
BEGIN:VEVENT
DTSTART:20220927T150000Z
DTEND:20220928T000000Z
X-MICROSOFT-CDO-ALLDAYEVENT:FALSE
SUMMARY:Mental Health Of America Dine In At Mellow Mushroom
DESCRIPTION:Come Dine in and Support Mental Health of America. 15 % goes back to this great cause that effects us all in some way in our community. Their will be great resources available at a table. Information an someone to chat with about place to reach out to or looking for. Come on out and Have some Great Pizza and Join Us!
X-ALT-DESC;FMTTYPE=text/html:Come Dine in and Support Mental Health of America. 15 % goes back to this great cause that effects us all in some way in our community. Their will be great resources available at a table. Information an someone to chat with about place to reach out to or looking for. Come on out and Have some Great Pizza and Join Us!
LOCATION:Mellow Mushroom Downtown Fredericksburg.
UID:e.492.13118
SEQUENCE:3
DTSTAMP:20260422T194743Z
URL:https://members.fredericksburgchamber.org/events/details/mental-health-of-america-dine-in-at-mellow-mushroom-13118
END:VEVENT

END:VCALENDAR
