BEGIN:VCALENDAR
VERSION:2.0
PRODID:-//ChamberMaster//Event Calendar 2.0//EN
METHOD:PUBLISH
X-PUBLISHED-TTL:P3D
REFRESH-INTERVAL:P3D
CALSCALE:GREGORIAN
BEGIN:VEVENT
DTSTART:20231120T150000Z
DTEND:20231223T220000Z
X-MICROSOFT-CDO-ALLDAYEVENT:FALSE
SUMMARY:Merry Trees Exhibit
DESCRIPTION:The Fredericksburg Area Museum (FAM) is pleased to announce the eighth annual Merry Trees exhibit in partnership with Fredericksburg City Public Schools. FAM's gallery spaces will be filled with fourteen miniature trees decorated by second-grade students at Hugh Mercer and Lafayette Elementary Schools. In honor of FAM's 2023 exhibit SEEN: Viewing the Work of African American Artists in Fredericksburg\, VA\, this year's trees are inspired by books written and illustrated by African American authors and illustrators. FAM is excited to continue this celebration of art\, literature\, the holiday season\, and Fredericksburg's elementary students. Merry Trees will be on display at the FAM (907 Princess Anne St\, Fredericksburg\, VA) from November 20th through December 23rd\, 2023.
X-ALT-DESC;FMTTYPE=text/html:The Fredericksburg Area Museum (FAM) is pleased to announce the eighth annual Merry Trees exhibit in partnership with Fredericksburg City Public Schools. FAM&rsquo\;s gallery spaces will be filled with fourteen miniature trees decorated by second-grade students at Hugh Mercer and Lafayette Elementary Schools. In honor of FAM&rsquo\;s 2023 exhibit SEEN: Viewing the Work of African American Artists in Fredericksburg\, VA\, this year&rsquo\;s trees are inspired by books written and illustrated by African American authors and illustrators. FAM is excited to continue this celebration of art\, literature\, the holiday season\, and Fredericksburg&rsquo\;s elementary students. Merry Trees will be on display at the FAM (907 Princess Anne St\, Fredericksburg\, VA) from November 20th through December 23rd\, 2023.
LOCATION:Fredericksburg Area Museum 907 Princess Anne St Fredericksburg\, VA 22401
UID:e.492.13761
SEQUENCE:3
DTSTAMP:20260421T232241Z
URL:https://members.fredericksburgchamber.org/events/details/merry-trees-exhibit-13761
END:VEVENT

END:VCALENDAR
