BEGIN:VCALENDAR
VERSION:2.0
PRODID:-//ChamberMaster//Event Calendar 2.0//EN
METHOD:PUBLISH
X-PUBLISHED-TTL:P3D
REFRESH-INTERVAL:P3D
CALSCALE:GREGORIAN
BEGIN:VEVENT
DTSTART:20221202T220000Z
DTEND:20221203T003000Z
X-MICROSOFT-CDO-ALLDAYEVENT:FALSE
SUMMARY:Merry Trees Exhibit Open House
DESCRIPTION:The Fredericksburg Area Museum (FAM) is pleased to announce the seventh annual Merry Trees exhibit. FAM's gallery spaces will be filled with fourteen miniature trees decorated by second-grade students at Hugh Mercer and Lafayette Elementary Schools. Each tree is inspired by a children's book the students have read in the classroom. Merry Trees will be on display at the FAM (907 Princess Anne St\, Fredericksburg\, VA) from November 25th through December 29th\, 2022. We invite everyone young and old to come to the FREE Merry Trees Open House on Friday\, December 2nd. From 5pm   7:30pm\, visitors will have an opportunity to see each class's tree\, participate in a family holiday I Spy game\, visit with Santa in the museum's galleries\, and pick up a book from the Fredericksburg Bookmobile.
X-ALT-DESC;FMTTYPE=text/html:The Fredericksburg Area Museum (FAM) is pleased to announce the seventh annual Merry Trees exhibit. FAM&rsquo\;s gallery spaces will be filled with fourteen miniature trees decorated by second-grade students at Hugh Mercer and Lafayette Elementary Schools. Each tree is inspired by a children&rsquo\;s book the students have read in the classroom. Merry Trees will be on display at the FAM (907 Princess Anne St\, Fredericksburg\, VA) from November 25th through December 29th\, 2022. We invite everyone young and old to come to the FREE Merry Trees Open House on Friday\, December 2nd. From 5pm &ndash\; 7:30pm\, visitors will have an opportunity to see each class&rsquo\;s tree\, participate in a family holiday I Spy game\, visit with Santa in the museum&rsquo\;s galleries\, and pick up a book from the Fredericksburg Bookmobile.
LOCATION:Fredericksburg Area Museum (907\, Princess Anne Street)
UID:e.492.13177
SEQUENCE:3
DTSTAMP:20260422T151514Z
URL:https://members.fredericksburgchamber.org/events/details/merry-trees-exhibit-open-house-13177
END:VEVENT

END:VCALENDAR
