BEGIN:VCALENDAR
VERSION:2.0
PRODID:-//ChamberMaster//Event Calendar 2.0//EN
METHOD:PUBLISH
X-PUBLISHED-TTL:P3D
REFRESH-INTERVAL:P3D
CALSCALE:GREGORIAN
BEGIN:VEVENT
DTSTART:20251011T090000Z
DTEND:20251011T110000Z
X-MICROSOFT-CDO-ALLDAYEVENT:FALSE
SUMMARY:Mix\, Mingle\, & Make: An Entrepreneur Networking Event
DESCRIPTION:Mix\, Mingle\, & Make: An Entrepreneur Networking Experience\n\nThis isn't your typical night out\, it's a creative networking experience unlike anything else in Fredericksburg. Get ready for an evening where entrepreneurship meets fun. Making your own body butter\, sipping wine\, and connecting with other leaders in an uplifting\, inspiring atmosphere.\n\nHosted by Journey Home & Body Scents in collaboration with SUCCESS Space Fredericksburg\, this one-of-a-kind event is designed to fuel your creativity\, spark new connections\, and leave you with something tangible (and useful!) to take home.
X-ALT-DESC;FMTTYPE=text/html:<h2>Mix\, Mingle\, &amp\; Make: An Entrepreneur Networking Experience</h2>\n\n<p>This isn&rsquo\;t your typical night out\, it&rsquo\;s a&nbsp\;<strong>creative networking experience unlike anything else in Fredericksburg.</strong>&nbsp\;Get ready for an evening where entrepreneurship meets fun. Making your own body butter\, sipping wine\, and connecting with other leaders in an uplifting\, inspiring atmosphere.</p>\n\n<p>Hosted by&nbsp\;<strong>Journey Home &amp\; Body Scents</strong>&nbsp\;in collaboration with&nbsp\;<strong>SUCCESS Space Fredericksburg</strong>\, this one-of-a-kind event is designed to fuel your creativity\, spark new connections\, and leave you with something tangible (and useful!) to take home.</p>\n
LOCATION:
UID:e.492.15015
SEQUENCE:3
DTSTAMP:20260421T193144Z
URL:https://members.fredericksburgchamber.org/events/details/mix-mingle-make-an-entrepreneur-networking-event-15015
END:VEVENT

END:VCALENDAR
