BEGIN:VCALENDAR
VERSION:2.0
PRODID:-//ChamberMaster//Event Calendar 2.0//EN
METHOD:PUBLISH
X-PUBLISHED-TTL:P3D
REFRESH-INTERVAL:P3D
CALSCALE:GREGORIAN
BEGIN:VEVENT
DTSTART:20231229T183000Z
DTEND:20231229T193000Z
X-MICROSOFT-CDO-ALLDAYEVENT:FALSE
SUMMARY:Mobile Food Pantry & OrderAhead Service at FAC • December 29
DESCRIPTION:The Mobile Food Pantry and OrderAhead will now be onsite monthly at Germanna providing food and resources to students and the community. \n\nOrderAhead is a fast\, convenient\, and private way for you and your family to get the food you need.\n\nPlace your order with OrderAhead for pickup on December 29. \n\nThe Mobile Food Pantry will also be onsite.\n\nThe Mobile Food Pantry is a drive-thru style pantry with items including fresh and frozen proteins\, fruits\, vegetables\, pantry items\, and more. No registration is required for the Mobile Food Pantry.\n\nPick-up will be available every 4th Tuesday from 1:30 2:30 p.m.\n\nQuestions\, please call (540) 621-5155\n\nSponsored by the Fredericksburg Regional Food Bank
X-ALT-DESC;FMTTYPE=text/html:<p><strong>The Mobile Food Pantry and OrderAhead will now be onsite monthly at Germanna&nbsp\;</strong>providing food and resources to students and the community.&nbsp\;</p>\n\n<p><strong>OrderAhead&nbsp\;</strong>is a fast\, convenient\, and private way for you and your family to get the food you need.</p>\n\n<p><a class="btn btn-secondary" href="https://www.orderahead.org/">Place your order</a>&nbsp\;with&nbsp\;<strong>OrderAhead</strong>&nbsp\;for pickup on December 29.&nbsp\;</p>\n\n<p><strong>The Mobile Food Pantry will also be onsite.</strong></p>\n\n<p>The&nbsp\;<strong>Mobile Food Pantry is a drive-thru style pantry</strong>&nbsp\;with items including fresh and frozen proteins\, fruits\, vegetables\, pantry items\, and more.&nbsp\;<u>No registration is required for the Mobile Food Pantry.</u></p>\n\n<p>Pick-up will be available every&nbsp\;<strong>4th Tuesday from 1:30&ndash\;2:30 p.m.</strong></p>\n\n<p><strong>Questions\,</strong>&nbsp\;please call (540) 621-5155</p>\n\n<p><em>Sponsored by the Fredericksburg Regional Food Bank</em></p>\n
LOCATION:Fredericksburg Area Campus Parking Lot 10000 Germanna Point Drive\, Fredericksburg 22408\, United States
UID:e.492.13794
SEQUENCE:3
DTSTAMP:20260421T233015Z
URL:https://members.fredericksburgchamber.org/events/details/mobile-food-pantry-orderahead-service-at-fac-december-29-13794
END:VEVENT

END:VCALENDAR
