BEGIN:VCALENDAR
VERSION:2.0
PRODID:-//ChamberMaster//Event Calendar 2.0//EN
METHOD:PUBLISH
X-PUBLISHED-TTL:P3D
REFRESH-INTERVAL:P3D
CALSCALE:GREGORIAN
BEGIN:VEVENT
DTSTART:20230513T140000Z
DTEND:20230514T190000Z
X-MICROSOFT-CDO-ALLDAYEVENT:FALSE
SUMMARY:Mother's Day Weekend Brunch
DESCRIPTION:Treat Mom to Brunch at Tun Tavern this weekend\, Saturday and Sunday! Tun Tavern will be opening at 10AM on both days and is featuring a special menu all day\, while supplies last. Tun Tavern is located on the second floor of the National Museum of the Marine Corps and is open daily. Admission to the Museum and parking are always FREE and open to the public!
X-ALT-DESC;FMTTYPE=text/html:Treat Mom to Brunch at Tun Tavern this weekend\, Saturday and Sunday! Tun Tavern will be opening at 10AM on both days and is featuring a special menu all day\, while supplies last. Tun Tavern is located on the second floor of the National Museum of the Marine Corps and is open daily. Admission to the Museum and parking are always FREE and open to the public!
LOCATION:National Museum of the Marine Corps 1775 Semper Fidelis Way Triangle\, VA 22172
UID:e.492.13556
SEQUENCE:3
DTSTAMP:20260422T065759Z
URL:https://members.fredericksburgchamber.org/events/details/mother-s-day-weekend-brunch-13556
END:VEVENT

END:VCALENDAR
