BEGIN:VCALENDAR
VERSION:2.0
PRODID:-//ChamberMaster//Event Calendar 2.0//EN
METHOD:PUBLISH
X-PUBLISHED-TTL:P3D
REFRESH-INTERVAL:P3D
CALSCALE:GREGORIAN
BEGIN:VEVENT
DTSTART:20190120T220000Z
DTEND:20190121T000000Z
X-MICROSOFT-CDO-ALLDAYEVENT:FALSE
SUMMARY:Mozzarella Stretching
DESCRIPTION:January 20 is National Cheese Lovers Day. We're going to celebrate by making mozzarella. A $20 ticket gets you a mozzarella making and stretching lesson\, a beer\, and a jar of mozzarella balls you can take home and brag about because you made them and they are awesome. Making mozzarella is fun\, feels witchy\, and while the whole process is easy\, because it requires your full attention while you stir the pot\, it's an exercise in mindfulness.
X-ALT-DESC;FMTTYPE=text/html:January 20 is National Cheese Lovers Day. We&rsquo\;re going to celebrate by making mozzarella. A $20 ticket gets you a mozzarella making and stretching lesson\, a beer\, and a jar of mozzarella balls you can take home and brag about because you made them and they are awesome. Making mozzarella is fun\, feels witchy\, and while the whole process is easy\, because it requires your full attention while you stir the pot\, it&rsquo\;s an exercise in mindfulness.
LOCATION:Spencer Devon Brewing
UID:e.492.7900
SEQUENCE:3
DTSTAMP:20260421T161321Z
URL:https://members.fredericksburgchamber.org/events/details/mozzarella-stretching-7900
END:VEVENT

END:VCALENDAR
