BEGIN:VCALENDAR
VERSION:2.0
PRODID:-//ChamberMaster//Event Calendar 2.0//EN
METHOD:PUBLISH
X-PUBLISHED-TTL:P3D
REFRESH-INTERVAL:P3D
CALSCALE:GREGORIAN
BEGIN:VEVENT
DTSTART:20210414T150000Z
DTEND:20210414T160000Z
X-MICROSOFT-CDO-ALLDAYEVENT:FALSE
SUMMARY:MWH Home Health Caregivers Support Group
DESCRIPTION:Are you caring for an ill or homebound loved one?\n\nDo you need ways to balance your life and manage caregiver stress?\n\nCould you use information on resources available for caregivers?\n\nSupport groups are currently meeting virtually. Please call ahead to register for the virtual meeting. Our home health social worker is Margaret Kenerly- 540-741-1864
X-ALT-DESC;FMTTYPE=text/html:<p><br />\nAre you caring for an ill or homebound loved one?</p>\n\n<p>Do you need ways to balance your life and manage caregiver stress?</p>\n\n<p>Could you use information on resources available for caregivers?<br />\n<strong>Support groups are currently meeting virtually. Please call ahead to register for the virtual meeting. Our home health social worker is Margaret Kenerly- 540-741-1864</strong></p>\n
LOCATION:
UID:e.492.11150
SEQUENCE:3
DTSTAMP:20260422T104016Z
URL:https://members.fredericksburgchamber.org/events/details/mwh-home-health-caregivers-support-group-04-14-2021-11150
END:VEVENT

END:VCALENDAR
