BEGIN:VCALENDAR
VERSION:2.0
PRODID:-//ChamberMaster//Event Calendar 2.0//EN
METHOD:PUBLISH
X-PUBLISHED-TTL:P3D
REFRESH-INTERVAL:P3D
CALSCALE:GREGORIAN
BEGIN:VEVENT
DTSTART:20221203T173000Z
DTEND:20221203T213000Z
X-MICROSOFT-CDO-ALLDAYEVENT:FALSE
SUMMARY:NCMHC "Day of Giving"
DESCRIPTION:The event is a collaboration effort with the National Consortium for Mental Health Counselors (NCMHC) and one of Stafford County's leading mental health group practices FOCUS Group Solutions\, LLC. Our goal is to improve access to care with our unique therapeutic process for Veterans\, Active Duty Members\, their families and the Greater Community. NCMHC is a non-profit that was developed to increase the footprint of mental health professionals\, through training and licensure preparedness. Our program not only prepares the "next generation of mental health professional\," but we also are improving access to care with no waitlist and professional mental health services.
X-ALT-DESC;FMTTYPE=text/html:<span style="background-color:rgb(254\, 254\, 254)"><font color="#2b3537" face="arial\, helvetica\, sans-serif"><span style="font-size:17.333334px">The event is a collaboration effort with the National&nbsp\;</span><span style="caret-color:rgb(43\, 53\, 55)\; font-size:17.333334px">Consortium for Mental Health Counselors (NCMHC) and&nbsp\;</span><span style="font-size:17.333334px">one of Stafford County&#39\;s leading mental health group practices FOCUS Group Solutions\, LLC. Our goal is to improve access to care with our unique therapeutic process for Veterans\, Active Duty Members\, their families and the Greater Community. NCMHC is a non-profit that was developed to increase the footprint of mental health professionals\, through training and licensure preparedness. Our program not only prepares the &quot\;next generation of mental health professional\,&quot\; but we also are improving access to care with no waitlist and professional mental health services. </span></font></span><br />\n&nbsp\;
LOCATION:FOCUS GROUP SOLUTIONS\, LLC 2052 RICHMOND HWY\, SUITE 108 STAFFORD VA 22554
UID:e.492.13231
SEQUENCE:3
DTSTAMP:20260422T163950Z
URL:https://members.fredericksburgchamber.org/events/details/ncmhc-day-of-giving-13231
END:VEVENT

END:VCALENDAR
