BEGIN:VCALENDAR
VERSION:2.0
PRODID:-//ChamberMaster//Event Calendar 2.0//EN
METHOD:PUBLISH
X-PUBLISHED-TTL:P3D
REFRESH-INTERVAL:P3D
CALSCALE:GREGORIAN
BEGIN:VEVENT
DTSTART:20240530T213000Z
DTEND:20240530T233000Z
X-MICROSOFT-CDO-ALLDAYEVENT:FALSE
SUMMARY:Network at Nite Luau - C&F Bank King George
DESCRIPTION:Network at Nite is our networking events that you don't want to miss! Held at member locations\, these are the perfect way to wrap up your day. Grab your business cards and come ready to meet other business professionals from the region and create powerful relationships for yourself and your company.\n\n\nThis is a FREE event\, however registration is required. Please let us know you are coming by registering.
X-ALT-DESC;FMTTYPE=text/html:<div style="text-align: center\;"><span style="color: rgb(29\, 33\, 41)\; font-family: Helvetica\, Arial\, sans-serif\; font-size: 14px\; white-space-collapse: preserve\;">Network at Nite is our networking events that you don&#39\;t want to miss! Held at member locations\, these are the perfect way to wrap up your day. Grab your business cards and come ready to meet other business professionals from the region and create powerful relationships for yourself and your company.</span></div>\n<br style="color: rgb(29\, 33\, 41)\; font-family: Helvetica\, Arial\, sans-serif\; font-size: 14px\; white-space: pre-wrap\;" />\n<span style="color: rgb(29\, 33\, 41)\; font-family: Helvetica\, Arial\, sans-serif\; font-size: 14px\; white-space: pre-wrap\;">This is a FREE event\, however registration is required. Please let us know you are coming by registering.</span><br />\n<br />\n<br />\n<br style="color: rgb(29\, 33\, 41)\; font-family: Helvetica\, Arial\, sans-serif\; font-size: 14px\; white-space: pre-wrap\;" />\n&nbsp\;
LOCATION:C&F Bank 8065 Kings Hwy. King George VA 22485
UID:e.492.13907
SEQUENCE:3
DTSTAMP:20260422T071139Z
URL:https://members.fredericksburgchamber.org/events/details/network-at-nite-luau-c-f-bank-king-george-13907
END:VEVENT

END:VCALENDAR
