BEGIN:VCALENDAR
VERSION:2.0
PRODID:-//ChamberMaster//Event Calendar 2.0//EN
METHOD:PUBLISH
X-PUBLISHED-TTL:P3D
REFRESH-INTERVAL:P3D
CALSCALE:GREGORIAN
BEGIN:VEVENT
DTSTART:20230517T213000Z
DTEND:20230517T230000Z
X-MICROSOFT-CDO-ALLDAYEVENT:FALSE
SUMMARY:New Members Meet & Greet
DESCRIPTION:Please join us on May 11th to connect with fellow members of FRSHRM and learn more about the ongoing events and activities the organization has to offer. The New Member Meet and Greet is geared towards members who have recently joined Fredericksburg SHRM (FRSHRM) over the past 6-months\; however\, existing members are also welcome to attend and participate.
X-ALT-DESC;FMTTYPE=text/html:Please join us on May 11th to connect with fellow members of FRSHRM and learn more about the ongoing events and activities the organization has to offer. The New Member Meet and Greet is geared towards members who have recently joined Fredericksburg SHRM (FRSHRM) over the past 6-months\; however\, existing members are also welcome to attend and participate.
LOCATION:Lee's Parke Community Clubhouse 5430 Holley Oak Lane Fredericksburg\, VA 22407
UID:e.492.13459
SEQUENCE:3
DTSTAMP:20260422T084610Z
URL:https://members.fredericksburgchamber.org/events/details/new-members-meet-greet-13459
END:VEVENT

END:VCALENDAR
