BEGIN:VCALENDAR
VERSION:2.0
PRODID:-//ChamberMaster//Event Calendar 2.0//EN
METHOD:PUBLISH
X-PUBLISHED-TTL:P3D
REFRESH-INTERVAL:P3D
CALSCALE:GREGORIAN
BEGIN:VEVENT
DTSTART:20260317T210500Z
DTEND:20260317T230500Z
X-MICROSOFT-CDO-ALLDAYEVENT:FALSE
SUMMARY:Next Gen 5:05: Fun Land of Fredericksburg
DESCRIPTION:Join Next Gen for a special St. Patrick's Day edition of our 5:05 Networking event. This monthly gathering brings together young professionals from across the Fredericksburg region to build meaningful connections\, expand professional networks\, and strengthen our local business community.\n\nWhether you are new to Next Gen or a returning attendee\, this event offers a welcoming environment to engage with peers\, exchange ideas\, and create opportunities for collaboration and growth. \n\nWe encourage attendees to invite a colleague\, bring business cards\, and come ready to connect. We look forward to seeing you at 5:05 at Fun Land of Fredericksburg.
X-ALT-DESC;FMTTYPE=text/html:<p data-end="375" data-start="87"><span style="font-size:14px\;">Join <strong><a href="https://www.fredericksburgchamber.org/nextgen/">Next Gen</a></strong> for a special <strong>St. Patrick&rsquo\;s Day edition</strong> of our<strong> 5:05 Networking event</strong>. This monthly gathering brings together young professionals from across the Fredericksburg region to build meaningful connections\, expand professional networks\, and strengthen our local business community.</span></p>\n\n<p data-end="747" data-start="377"><span style="font-size:14px\;">Whether you are new to Next Gen or a returning attendee\, this event offers a welcoming environment to engage with peers\, exchange ideas\, and create opportunities for collaboration and growth.&nbsp\;</span></p>\n\n<p data-end="882" data-is-last-node="" data-is-only-node="" data-start="749"><span style="font-size:14px\;">We encourage attendees to invite a colleague\, bring business cards\, and come ready to connect. <strong>We look forward to seeing you at 5:05 at Fun Land of Fredericksburg.&nbsp\;</strong></span></p>\n
LOCATION:Location: Fun Land of Fredericksburg Address: 1351 Central Park Blvd\, Fredericksburg\, VA 22401
UID:e.492.15213
SEQUENCE:3
DTSTAMP:20260421T114134Z
URL:https://members.fredericksburgchamber.org/events/details/next-gen-5-05-fun-land-of-fredericksburg-15213
END:VEVENT

END:VCALENDAR
