BEGIN:VCALENDAR
VERSION:2.0
PRODID:-//ChamberMaster//Event Calendar 2.0//EN
METHOD:PUBLISH
X-PUBLISHED-TTL:P3D
REFRESH-INTERVAL:P3D
CALSCALE:GREGORIAN
BEGIN:VEVENT
DTSTART:20240514T210500Z
DTEND:20240514T230000Z
X-MICROSOFT-CDO-ALLDAYEVENT:FALSE
SUMMARY:Next Gen 5:05 Social Networking Group
DESCRIPTION:Next Gen Social Networking Group
X-ALT-DESC;FMTTYPE=text/html:Next Gen Social Networking Group
LOCATION:6 Bears and A Goat 1140 International Pkwy Fredericksburg\, VA 22406
UID:e.492.13978
SEQUENCE:3
DTSTAMP:20260422T065554Z
URL:https://members.fredericksburgchamber.org/events/details/next-gen-5-05-social-networking-group-13978
END:VEVENT

END:VCALENDAR
