BEGIN:VCALENDAR
VERSION:2.0
PRODID:-//ChamberMaster//Event Calendar 2.0//EN
METHOD:PUBLISH
X-PUBLISHED-TTL:P3D
REFRESH-INTERVAL:P3D
CALSCALE:GREGORIAN
BEGIN:VEVENT
DTSTART:20250531T110000Z
DTEND:20250531T170000Z
X-MICROSOFT-CDO-ALLDAYEVENT:FALSE
SUMMARY:One Year Anniversary Celebration Fit Body Boot Camp
DESCRIPTION:Come celebrate Fit Body Boot Camp's one year anniversary at a free event on Saturday\, May 31 .   Free open house\, free workouts at 0730\, 0830\, 0930 ....Healthy/wellness vendors\, DJ\, and lot's more!
X-ALT-DESC;FMTTYPE=text/html:Come celebrate Fit Body Boot Camp&#39\;s one year anniversary at a free event on Saturday\, May 31 .&nbsp\; &nbsp\;Free open house\, free workouts at 0730\, 0830\, 0930 ....Healthy/wellness vendors\, DJ\, and lot&#39\;s more!&nbsp\;
LOCATION:4630 Mine Rd\, Fredericksburg\, VA. 22408 ( Lee's Hill)
UID:e.492.14849
SEQUENCE:3
DTSTAMP:20260422T053322Z
URL:https://members.fredericksburgchamber.org/events/details/one-year-anniversary-celebration-fit-body-boot-camp-14849
END:VEVENT

END:VCALENDAR
