BEGIN:VCALENDAR
VERSION:2.0
PRODID:-//ChamberMaster//Event Calendar 2.0//EN
METHOD:PUBLISH
X-PUBLISHED-TTL:P3D
REFRESH-INTERVAL:P3D
CALSCALE:GREGORIAN
BEGIN:VEVENT
DTSTART:20230420T210000Z
DTEND:20230420T230000Z
X-MICROSOFT-CDO-ALLDAYEVENT:FALSE
SUMMARY:One Year Anniversary Event
DESCRIPTION:Come join us for an evening of food\, drinks\, fun and giveaways. We will have live demo's for some of our popular esthetic services\, special event only pricing and a chance to win fabulous giveaways to take years off of your face. Bring a friend and gain an extra entry in giveaway of your choice. RSVP to 540-322-1226 today!
X-ALT-DESC;FMTTYPE=text/html:Come join us for an evening of food\, drinks\, fun and giveaways. We will have live demo&#39\;s for some of our popular esthetic services\, special event only pricing and a chance to win fabulous giveaways to take years off of your face. Bring a friend and gain an extra entry in giveaway of your choice. RSVP to 540-322-1226 today!
LOCATION:10740 B Courthouse Road
UID:e.492.13468
SEQUENCE:3
DTSTAMP:20260422T084323Z
URL:https://members.fredericksburgchamber.org/events/details/one-year-anniversary-event-13468
END:VEVENT

END:VCALENDAR
