BEGIN:VCALENDAR
VERSION:2.0
PRODID:-//ChamberMaster//Event Calendar 2.0//EN
METHOD:PUBLISH
X-PUBLISHED-TTL:P3D
REFRESH-INTERVAL:P3D
CALSCALE:GREGORIAN
BEGIN:VEVENT
DTSTART:20220804T230000Z
DTEND:20220805T000000Z
X-MICROSOFT-CDO-ALLDAYEVENT:FALSE
SUMMARY:Open House at Your House
DESCRIPTION:Meet Germanna\n\n\n\nAttend our next Open House at your house. Connect with Germanna online and discover who we are\, all we have to offer\, and how to get started. Germanna specialists will be on hand to answer your questions.\n\n	Transfer degrees & career programs\n	In-person\, online & accelerated online learning options\n	Academic & personal support services\n	Financial assistance and tuition-free degrees\n	How to get started
X-ALT-DESC;FMTTYPE=text/html:<strong><u><span style="color:black">Meet Germanna</span></u></strong><br />\n<br />\n<span style="color:black">Attend our next Open House at&nbsp\;<em>your</em>&nbsp\;house. Connect with Germanna online and discover who we are\, all we have to offer\, and how to get started. Germanna specialists will be on hand to answer your questions.</span>\n<ul>\n	<li><span style="color:black">Transfer degrees &amp\; career programs</span></li>\n	<li><span style="color:black">In-person\, online &amp\; accelerated online learning options</span></li>\n	<li><span style="color:black">Academic &amp\; personal support services</span></li>\n	<li><span style="color:black">Financial assistance and tuition-free degrees</span></li>\n	<li><span style="color:black">How to get started</span></li>\n</ul>\n
LOCATION:Virtual event.
UID:e.492.13056
SEQUENCE:3
DTSTAMP:20260422T225755Z
URL:https://members.fredericksburgchamber.org/events/details/open-house-at-your-house-08-04-2022-13056
END:VEVENT

END:VCALENDAR
