BEGIN:VCALENDAR
VERSION:2.0
PRODID:-//ChamberMaster//Event Calendar 2.0//EN
METHOD:PUBLISH
X-PUBLISHED-TTL:P3D
REFRESH-INTERVAL:P3D
CALSCALE:GREGORIAN
BEGIN:VEVENT
DTSTART:20221214T230000Z
DTEND:20221215T010000Z
X-MICROSOFT-CDO-ALLDAYEVENT:FALSE
SUMMARY:Operation Blue Christmas
DESCRIPTION:Join us in the spirit of Giving! Bring in new\, unwrapped toys\, hats\, gloves\, or coats and support local children in need. We collect toys on behalf of the Spotsylvania County Sheriff's Office and they give them away at their office. Live radio remote with WFLS FM. Meet Santa Raffle drawing\, Refreshments
X-ALT-DESC;FMTTYPE=text/html:Join us in the spirit of Giving! Bring in new\, unwrapped toys\, hats\, gloves\, or coats and support local children in need. We collect toys on behalf of the Spotsylvania County Sheriff&#39\;s Office and they give them away at their office. Live radio remote with WFLS FM. Meet Santa Raffle drawing\, Refreshments
LOCATION:1287- B Central Park Blvd Fredericksburg\, VA 22401
UID:e.492.13289
SEQUENCE:3
DTSTAMP:20260422T150148Z
URL:https://members.fredericksburgchamber.org/events/details/operation-blue-christmas-13289
END:VEVENT

END:VCALENDAR
