BEGIN:VCALENDAR
VERSION:2.0
PRODID:-//ChamberMaster//Event Calendar 2.0//EN
METHOD:PUBLISH
X-PUBLISHED-TTL:P3D
REFRESH-INTERVAL:P3D
CALSCALE:GREGORIAN
BEGIN:VEVENT
DTSTART:20250610T130000Z
DTEND:20250610T183000Z
X-MICROSOFT-CDO-ALLDAYEVENT:FALSE
SUMMARY:Operation Health Sciences Summer Camp
DESCRIPTION:Operation Health Sciences Summer Camp\n\nJune 9 11   9 a.m. to 2:30 p.m.   Fredericksburg Area Campus\n\nDiscover the world of health sciences at Operation Health Sciences\, a three-day summer camp for middle school students. This engaging experience is filled with hands-on\, interactive activities designed to spark curiosity and inspire future healthcare professionals.\n\nExplore the fascinating world of health sciences through sessions like:\n\n\n	Brain and Body   Uncover the connection between the brain\, body\,\n\n	and nervous system through fun anatomy explorations.\n	Health Science Explorers   Dive into the diverse careers in health\n\n	sciences with immersive\, hands-on experiences.\n	Pulse Project & First Aid   Learn about heart health\, CPR\, first aid\,\n\n	and how to check vital signs.\n	Future Healthcare Professionals   Discover the impact\n\n	of healthcare careers and how they shape the future of\n\n	medicine.\n\nRegister to attend
X-ALT-DESC;FMTTYPE=text/html:<h2>Operation Health Sciences Summer Camp</h2>\n\n<h3>June 9&ndash\;11 &middot\; 9 a.m. to 2:30 p.m. &middot\; Fredericksburg Area Campus</h3>\n\n<p>Discover the world of health sciences at Operation Health Sciences\, a three-day summer camp for middle school students. This engaging experience is filled with hands-on\, interactive activities designed to spark curiosity and inspire future healthcare professionals.</p>\n\n<p>Explore the fascinating world of health sciences through sessions like:</p>\n\n<ul>\n	<li>Brain and Body&nbsp\;&ndash\; Uncover the connection between the brain\, body\,<br />\n	and nervous system through fun anatomy explorations.</li>\n	<li>Health Science Explorers&nbsp\;&ndash\; Dive into the diverse careers in health<br />\n	sciences with immersive\, hands-on experiences.</li>\n	<li>Pulse Project &amp\; First Aid&nbsp\;&ndash\; Learn about heart health\, CPR\, first aid\,<br />\n	and how to check vital signs.</li>\n	<li>Future Healthcare Professionals&nbsp\;&ndash\; Discover the impact<br />\n	of healthcare careers and how they shape the future of<br />\n	medicine.</li>\n</ul>\n<a href="https://docs.google.com/forms/d/e/1FAIpQLScSqyhA70BY7KAG9PjcLMK6UknjIS2wwkQn3vE75rUcTy7Pqw/viewform">Register to attend</a>
LOCATION:Fredericksburg Area Campus Germanna Community College 10000 Germanna Point Dr\, Fredericksburg\, VA 22408
UID:e.492.14503
SEQUENCE:3
DTSTAMP:20260422T020342Z
URL:https://members.fredericksburgchamber.org/events/details/operation-health-sciences-summer-camp-06-10-2025-14503
END:VEVENT

END:VCALENDAR
