BEGIN:VCALENDAR
VERSION:2.0
PRODID:-//ChamberMaster//Event Calendar 2.0//EN
METHOD:PUBLISH
X-PUBLISHED-TTL:P3D
REFRESH-INTERVAL:P3D
CALSCALE:GREGORIAN
BEGIN:VEVENT
DTSTART:20221110T163000Z
DTEND:20221110T180000Z
X-MICROSOFT-CDO-ALLDAYEVENT:FALSE
SUMMARY:Outrageous Employment Law Cases
DESCRIPTION:Outrageous Employment Law Cases . . . and the Lessons We Can Learn!\n\nEvery day\, HR professionals are called upon to deal with a variety of employee issues\, often ranging from the novel to the bizarre.  Do we always handle them correctly?  Can we do it better?  During this session\, we will examine some real life\, outrageous workplace situations and discuss the potential issues posed by each situation and best practices for addressing them.
X-ALT-DESC;FMTTYPE=text/html:<p><strong>Outrageous Employment Law Cases . . . and the Lessons We Can Learn!</strong></p>\n\n<p>Every day\, HR professionals are called upon to deal with a variety of employee issues\, often ranging from the novel to the bizarre.&nbsp\; Do we always handle them correctly?&nbsp\; Can we do it better?&nbsp\; During this session\, we will examine some real life\, outrageous workplace situations and discuss the potential issues posed by each situation and best practices for addressing them.</p>\n
LOCATION:Virtual\, zoom details to be provided after registration.
UID:e.492.13174
SEQUENCE:3
DTSTAMP:20260422T163817Z
URL:https://members.fredericksburgchamber.org/events/details/outrageous-employment-law-cases-13174
END:VEVENT

END:VCALENDAR
