BEGIN:VCALENDAR
VERSION:2.0
PRODID:-//ChamberMaster//Event Calendar 2.0//EN
METHOD:PUBLISH
X-PUBLISHED-TTL:P3D
REFRESH-INTERVAL:P3D
CALSCALE:GREGORIAN
BEGIN:VEVENT
DTSTART:20230213T200000Z
DTEND:20230214T010000Z
X-MICROSOFT-CDO-ALLDAYEVENT:FALSE
SUMMARY:Pal-In-Tine with SPCA
DESCRIPTION:Why Have Chocolate when you can have Pizza and Puppies at Mellow Mushroom Fredericksburg. Join us and your local Fredericksburg SPCA for a charity benefit where 15% of all original receipts dropped in the basket go back to help animals in need. While dining in eating great Pizza\, Wings\, & Subs. Come check out the Dogs on the patio. Yes Our indoor Patio is dog friendly and cozy for the winter. Nothing like that extra fur baby to cuddle with on Valentines!
X-ALT-DESC;FMTTYPE=text/html:Why Have Chocolate when you can have Pizza and Puppies at Mellow Mushroom Fredericksburg. Join us and your local Fredericksburg SPCA for a charity benefit where 15% of all original receipts dropped in the basket go back to help animals in need. While dining in eating great Pizza\, Wings\, &amp\; Subs. Come check out the Dogs on the patio. Yes Our indoor Patio is dog friendly and cozy for the winter. Nothing like that extra fur baby to cuddle with on Valentines!
LOCATION:Mellow Mushroom FXBG- 609 William St Fred. 22401 540-997.3033
UID:e.492.13360
SEQUENCE:3
DTSTAMP:20260422T115109Z
URL:https://members.fredericksburgchamber.org/events/details/pal-in-tine-with-spca-13360
END:VEVENT

END:VCALENDAR
