BEGIN:VCALENDAR
VERSION:2.0
PRODID:-//ChamberMaster//Event Calendar 2.0//EN
METHOD:PUBLISH
X-PUBLISHED-TTL:P3D
REFRESH-INTERVAL:P3D
CALSCALE:GREGORIAN
BEGIN:VEVENT
DTSTART:20250607T140000Z
DTEND:20250607T160000Z
X-MICROSOFT-CDO-ALLDAYEVENT:FALSE
SUMMARY:Paper Marbling Workshop
DESCRIPTION:Join artist Lynette Reed for an Introduction to Paper Marbling workshop at the James Monroe Museum! Lynette\, a professional artist at LibertyTown Arts\, will guide you through the ancient art of marbling\, creating beautiful\, one-of-a-kind patterns on paper. With her diverse background in oil and watercolor painting\, illustration\, and fiber arts\, Lynette brings a wealth of experience to this hands-on class. The ticket includes all materials and a marbled paper takeaway. Don't miss this unique opportunity to explore this captivating art form! Email us at jamesmonroemuseum@gmail.com to purchase a ticket. $45/member $50/non-member
X-ALT-DESC;FMTTYPE=text/html:Join artist Lynette Reed for an Introduction to Paper Marbling workshop at the James Monroe Museum! Lynette\, a professional artist at LibertyTown Arts\, will guide you through the ancient art of marbling\, creating beautiful\, one-of-a-kind patterns on paper. With her diverse background in oil and watercolor painting\, illustration\, and fiber arts\, Lynette brings a wealth of experience to this hands-on class. The ticket includes all materials and a marbled paper takeaway. Don&#39\;t miss this unique opportunity to explore this captivating art form! Email us at jamesmonroemuseum@gmail.com to purchase a ticket. $45/member $50/non-member
LOCATION:James Monroe Museum 908 Charles St Fredericksburg\, VA
UID:e.492.14848
SEQUENCE:3
DTSTAMP:20260422T015913Z
URL:https://members.fredericksburgchamber.org/events/details/paper-marbling-workshop-14848
END:VEVENT

END:VCALENDAR
