BEGIN:VCALENDAR
VERSION:2.0
PRODID:-//ChamberMaster//Event Calendar 2.0//EN
METHOD:PUBLISH
X-PUBLISHED-TTL:P3D
REFRESH-INTERVAL:P3D
CALSCALE:GREGORIAN
BEGIN:VEVENT
DTSTART:20231005T210000Z
DTEND:20231006T000000Z
X-MICROSOFT-CDO-ALLDAYEVENT:FALSE
SUMMARY:Paragon Theaters & Penny Lanes Holiday Preview Event
DESCRIPTION:Have You Heard? We are thrilled to invite you and a guest to our Holiday Preview Event on October 5 from 5-8pm. This is an exclusive opportunity to sample complimentary food and beverage from our new event and holiday menus. In addition\, you will enjoy a fun-filled evening of bowling and games\, giving you a taste of the entertainment options we offer. As a special incentive\, we are offering early booking savings for those who start planning their holiday party at our event. It's a chance to secure the perfect date and take advantage of great discounts. Don't miss out on this fantastic opportunity! Please RSVP by September 29th to secure your spot! We look forward to seeing you there!
X-ALT-DESC;FMTTYPE=text/html:Have You Heard? We are thrilled to invite you and a guest to our Holiday Preview Event on October 5 from 5-8pm. This is an exclusive opportunity to sample complimentary food and beverage from our new event and holiday menus. In addition\, you will enjoy a fun-filled evening of bowling and games\, giving you a taste of the entertainment options we offer. As a special incentive\, we are offering early booking savings for those who start planning their holiday party at our event. It&#39\;s a chance to secure the perfect date and take advantage of great discounts. Don&#39\;t miss out on this fantastic opportunity! Please RSVP by September 29th to secure your spot! We look forward to seeing you there!
LOCATION:Paragon Theaters & Penny Lanes Chatterbox Bar & Lounge 51 Towne Centre Blvd Fredericksburg\, VA 22407
UID:e.492.13702
SEQUENCE:3
DTSTAMP:20260421T231513Z
URL:https://members.fredericksburgchamber.org/events/details/paragon-theaters-penny-lanes-holiday-preview-event-13702
END:VEVENT

END:VCALENDAR
