BEGIN:VCALENDAR
VERSION:2.0
PRODID:-//ChamberMaster//Event Calendar 2.0//EN
METHOD:PUBLISH
X-PUBLISHED-TTL:P3D
REFRESH-INTERVAL:P3D
CALSCALE:GREGORIAN
BEGIN:VEVENT
DTSTART:20221206T210000Z
DTEND:20221207T010000Z
X-MICROSOFT-CDO-ALLDAYEVENT:FALSE
SUMMARY:Parkside Spirit Night
DESCRIPTION:Come on out and help support a local school Parkside Elementary as they raise funds for their school. 15% of all original receipts dropped in the basket will go back to their school. Come on in and let your school know you here for this great event and help out.
X-ALT-DESC;FMTTYPE=text/html:Come on out and help support a local school Parkside Elementary as they raise funds for their school. 15% of all original receipts dropped in the basket will go back to their school. Come on in and let your school know you here for this great event and help out.
LOCATION:Mellow Mushroom 609 William St
UID:e.492.13199
SEQUENCE:3
DTSTAMP:20260422T150339Z
URL:https://members.fredericksburgchamber.org/events/details/parkside-spirit-night-13199
END:VEVENT

END:VCALENDAR
