BEGIN:VCALENDAR
VERSION:2.0
PRODID:-//ChamberMaster//Event Calendar 2.0//EN
METHOD:PUBLISH
X-PUBLISHED-TTL:P3D
REFRESH-INTERVAL:P3D
CALSCALE:GREGORIAN
BEGIN:VEVENT
DTSTART:20260121T003000Z
DTEND:20260121T013000Z
X-MICROSOFT-CDO-ALLDAYEVENT:FALSE
SUMMARY:Paul Revere: A Great Lives Chancellor’s Village Lecture with Kostya Kennedy
DESCRIPTION:Kostya Kennedy speaks at a Great Lives lecture about The Ride of Paul Revere and the Night That Saved America\, sponsored by Chancellor's Village. The event begins in George Washington Hall's Dodd Auditorium at 7:30 PM\, and doors open at 6:30 PM.
X-ALT-DESC;FMTTYPE=text/html:Kostya Kennedy speaks at a Great Lives lecture about The Ride of Paul Revere and the Night That Saved America\, sponsored by Chancellor&rsquo\;s Village. The event begins in George Washington Hall&rsquo\;s Dodd Auditorium at 7:30 PM\, and doors open at 6:30 PM.
LOCATION:1301 College Ave\, Fredericksburg\, VA 22401
UID:e.492.15139
SEQUENCE:3
DTSTAMP:20260421T145523Z
URL:https://members.fredericksburgchamber.org/events/details/paul-revere-a-great-lives-chancellor-s-village-lecture-with-kostya-kennedy-15139
END:VEVENT

END:VCALENDAR
