BEGIN:VCALENDAR
VERSION:2.0
PRODID:-//ChamberMaster//Event Calendar 2.0//EN
METHOD:PUBLISH
X-PUBLISHED-TTL:P3D
REFRESH-INTERVAL:P3D
CALSCALE:GREGORIAN
BEGIN:VEVENT
DTSTART:20240207T160000Z
DTEND:20240207T170000Z
X-MICROSOFT-CDO-ALLDAYEVENT:FALSE
SUMMARY:Payment Processing
DESCRIPTION:This one-hour webinar is designed for small business owners to learn more about credit card optimization\, including reducing fees on credit cards and gifts cards. Learning Outcomes: Choosing a Processor - What to look for when picking a company to process credit cards. Visa/MC Interchange - Find out how the processors get charged and how it affects you. Gift Card Programs - Will setting up a gift card program for your business help? If so\, learn how to set one up. Cash Discounting - Find out how to pass the fees to the cardholder in a way that doesn't break Visa/MC compliance. By registering for this seminar\, you grant UMW SBDC permission to share your contact information with the speaker.
X-ALT-DESC;FMTTYPE=text/html:This one-hour webinar is designed for small business owners to learn more about credit card optimization\, including reducing fees on credit cards and gifts cards. Learning Outcomes: Choosing a Processor - What to look for when picking a company to process credit cards. Visa/MC Interchange - Find out how the processors get charged and how it affects you. Gift Card Programs - Will setting up a gift card program for your business help? If so\, learn how to set one up. Cash Discounting - Find out how to pass the fees to the cardholder in a way that doesn&#39\;t break Visa/MC compliance. By registering for this seminar\, you grant UMW SBDC permission to share your contact information with the speaker.
LOCATION:Online webinar
UID:e.492.13831
SEQUENCE:3
DTSTAMP:20260422T023540Z
URL:https://members.fredericksburgchamber.org/events/details/payment-processing-02-07-2024-13831
END:VEVENT

END:VCALENDAR
