BEGIN:VCALENDAR
VERSION:2.0
PRODID:-//ChamberMaster//Event Calendar 2.0//EN
METHOD:PUBLISH
X-PUBLISHED-TTL:P3D
REFRESH-INTERVAL:P3D
CALSCALE:GREGORIAN
BEGIN:VEVENT
DTSTART:20230119T170000Z
DTEND:20230119T180000Z
X-MICROSOFT-CDO-ALLDAYEVENT:FALSE
SUMMARY:Payment Processing
DESCRIPTION:This one-hour webinar is designed for government contractors to learn more about credit card optimization\, including reducing fees on credit cards and gifts cards. Learning Outcomes: - Choosing a Processor - What to look for when picking a company to process credit cards. - Visa/MC Interchange - Find out how the processors get charged and how it affects you. - Gift Card Programs - Will setting up a gift card program for your business help? If so\, learn how to set one up. - Cash Discounting - Find out how to pass the fees to the cardholder in a way that doesn't break Visa/MC compliance.
X-ALT-DESC;FMTTYPE=text/html:This one-hour webinar is designed for government contractors to learn more about credit card optimization\, including reducing fees on credit cards and gifts cards. Learning Outcomes: - Choosing a Processor - What to look for when picking a company to process credit cards. - Visa/MC Interchange - Find out how the processors get charged and how it affects you. - Gift Card Programs - Will setting up a gift card program for your business help? If so\, learn how to set one up. - Cash Discounting - Find out how to pass the fees to the cardholder in a way that doesn&#39\;t break Visa/MC compliance.
LOCATION:Virtual
UID:e.492.13236
SEQUENCE:3
DTSTAMP:20260422T133638Z
URL:https://members.fredericksburgchamber.org/events/details/payment-processing-13236
END:VEVENT

END:VCALENDAR
