BEGIN:VCALENDAR
VERSION:2.0
PRODID:-//ChamberMaster//Event Calendar 2.0//EN
METHOD:PUBLISH
X-PUBLISHED-TTL:P3D
REFRESH-INTERVAL:P3D
CALSCALE:GREGORIAN
BEGIN:VEVENT
DTSTART:20260112T143000Z
DTEND:20260112T150000Z
X-MICROSOFT-CDO-ALLDAYEVENT:FALSE
SUMMARY:Pioneers Read: Free Toddler and Preschool Story Time
DESCRIPTION:Pioneers Read is a free community story time for toddlers and preschoolers hosted by Tree of Life Christian Prep School in Fredericksburg. On Monday\, January 12 from 9:30 to 10:00 AM\, families are invited to campus for a cozy read aloud\, a simple themed craft\, and time for little ones to enjoy books in a calm\, welcoming setting. This event supports early literacy\, imagination\, and family connection\, and is open to all local families\, not only TLC Prep students. Pioneers Read will continue on the second and fourth Mondays from January through April\, because at Tree of Life Christian Prep School we believe that every pioneer begins with a story.
X-ALT-DESC;FMTTYPE=text/html:Pioneers Read is a free community story time for toddlers and preschoolers hosted by Tree of Life Christian Prep School in Fredericksburg. On Monday\, January 12 from 9:30 to 10:00 AM\, families are invited to campus for a cozy read aloud\, a simple themed craft\, and time for little ones to enjoy books in a calm\, welcoming setting. This event supports early literacy\, imagination\, and family connection\, and is open to all local families\, not only TLC Prep students. Pioneers Read will continue on the second and fourth Mondays from January through April\, because at Tree of Life Christian Prep School we believe that every pioneer begins with a story.
LOCATION:Tree of Life Christian Prep School 6050 Plank Road\, Fredericksburg VA 22407
UID:e.492.15115
SEQUENCE:3
DTSTAMP:20260422T085418Z
URL:https://members.fredericksburgchamber.org/events/details/pioneers-read-free-toddler-and-preschool-story-time-15115
END:VEVENT

END:VCALENDAR
