BEGIN:VCALENDAR
VERSION:2.0
PRODID:-//ChamberMaster//Event Calendar 2.0//EN
METHOD:PUBLISH
X-PUBLISHED-TTL:P3D
REFRESH-INTERVAL:P3D
CALSCALE:GREGORIAN
BEGIN:VEVENT
DTSTART:20230627T140000Z
DTEND:20230627T170000Z
X-MICROSOFT-CDO-ALLDAYEVENT:FALSE
SUMMARY:Pop Up Designer Open House
DESCRIPTION:Come Join us for a Pop-Up Designer Open House. Pick up new sheen guides and update your color tools. Come ready with project questions\, ready to learn about our products and grab lunch with us as well. Our team here is very excited to see and meet with you as well as to help provide answers to your questions. This event is intended to help you grow your business and give you ease of mind when it comes to helping pick the perfect colors for your clients.
X-ALT-DESC;FMTTYPE=text/html:Come Join us for a Pop-Up Designer Open House. Pick up new sheen guides and update your color tools. Come ready with project questions\, ready to learn about our products and grab lunch with us as well. Our team here is very excited to see and meet with you as well as to help provide answers to your questions. This event is intended to help you grow your business and give you ease of mind when it comes to helping pick the perfect colors for your clients.
LOCATION:9 Village Center Dr #105\, Fredericksburg VA 22406
UID:e.492.13597
SEQUENCE:3
DTSTAMP:20260422T053004Z
URL:https://members.fredericksburgchamber.org/events/details/pop-up-designer-open-house-13597
END:VEVENT

END:VCALENDAR
