BEGIN:VCALENDAR
VERSION:2.0
PRODID:-//ChamberMaster//Event Calendar 2.0//EN
METHOD:PUBLISH
X-PUBLISHED-TTL:P3D
REFRESH-INTERVAL:P3D
CALSCALE:GREGORIAN
BEGIN:VEVENT
DTSTART:20250311T223000Z
DTEND:20250312T003000Z
X-MICROSOFT-CDO-ALLDAYEVENT:FALSE
SUMMARY:Post General Assembly Dinner 2025 Fredericksburg
DESCRIPTION:The 2025 General Assembly has just completed their 60 day session debating issues so very important to us. But what bills were actually approved by both chambers and what bills were passed over?\n\nSeveral of our local law makers will join us for the evening to chat about these issues including Senator Durant\, Senator Reeves\, Delegate Milde\, Delegate Orrock\, and Delegate Scott. We'll be discussing K-12 education\, energy\, the economy\, public safety\, and taxes.\n\nCome for a great dinner and evening discussing what is passed on to the Governor. We'll be happy to have you. Dinner will be on us!
X-ALT-DESC;FMTTYPE=text/html:<p>The 2025 General Assembly has just completed their 60 day session debating issues so very important to us. But what bills were actually approved by both chambers and what bills were passed over?</p>\n\n<p>Several of our local law makers will join us for the evening to chat about these issues including Senator Durant\, Senator Reeves\, Delegate Milde\, Delegate Orrock\, and Delegate Scott. We&#39\;ll be discussing K-12 education\, energy\, the economy\, public safety\, and taxes.</p>\n\n<p>Come for a great dinner and evening discussing what is passed on to the Governor. We&#39\;ll be happy to have you. Dinner will be on us!</p>\n
LOCATION:Park Lane Tavern 1 Town Centre Blvd Fredericksburg\, VA 22407
UID:e.492.14457
SEQUENCE:3
DTSTAMP:20260424T111351Z
URL:https://members.fredericksburgchamber.org/events/details/post-general-assembly-dinner-2025-fredericksburg-14457
END:VEVENT

END:VCALENDAR
