BEGIN:VCALENDAR
VERSION:2.0
PRODID:-//ChamberMaster//Event Calendar 2.0//EN
METHOD:PUBLISH
X-PUBLISHED-TTL:P3D
REFRESH-INTERVAL:P3D
CALSCALE:GREGORIAN
BEGIN:VEVENT
DTSTART:20250905T090000Z
DTEND:20250905T233000Z
X-MICROSOFT-CDO-ALLDAYEVENT:FALSE
SUMMARY:Pups\, Pours\, & Pages: First Friday
DESCRIPTION:Make Your First Friday Extra Fun at Fraser Wood Elements!\n\nJoin us on September 5th\, 2025\, for another exciting First Friday at Fraser Wood Elements. This time it's all about pups\, pours\, and pages! Come for the wagging tails\, stay for the wine\, books\, crafts\, and treats.\n\nEvent Highlights:\n\nAdoptable Pups from Old Dominion Humane Society\n\nThe stars of the evening! Meet lovable\, adoptable dogs looking for their forever homes. Cuddles are free\, and you just might leave with a new best friend.\n\nBackporch Vineyard\n\nPair those puppy snuggles with local Virginia wines for purchase.\n\nPop-Up Bookshop by The TBR Shelf\n\nWind down with a story after playtime\, browse hand-picked reads for every taste.\n\nCrafts for Kids\n\nWhile the pups play\, little ones can get creative with hands-on projects.\n\nTreats for Everyone\n\nSweet bites and goodies to keep the evening extra fun.
X-ALT-DESC;FMTTYPE=text/html:<p style="margin-left:unset\; margin-right:unset"><strong>Make Your First Friday Extra Fun at Fraser Wood Elements!</strong></p>\n\n<p style="margin-left:unset\; margin-right:unset">Join us on&nbsp\;<strong>September 5th\, 2025</strong>\, for another exciting First Friday at Fraser Wood Elements. This time it&rsquo\;s all about pups\, pours\, and pages! Come for the wagging tails\, stay for the wine\, books\, crafts\, and treats.</p>\n\n<p style="margin-left:unset\; margin-right:unset"><strong>Event Highlights:</strong></p>\n\n<p style="margin-left:unset\; margin-right:unset"><strong>Adoptable Pups from Old Dominion Humane Society</strong><br />\nThe stars of the evening! Meet lovable\, adoptable dogs looking for their forever homes. Cuddles are free\, and you just might leave with a new best friend.</p>\n\n<p style="margin-left:unset\; margin-right:unset"><strong>Backporch Vineyard</strong><br />\nPair those puppy snuggles with local Virginia wines for purchase.</p>\n\n<p style="margin-left:unset\; margin-right:unset"><strong>Pop-Up Bookshop by The TBR Shelf</strong><br />\nWind down with a story after playtime\, browse hand-picked reads for every taste.</p>\n\n<p style="margin-left:unset\; margin-right:unset"><strong>Crafts for Kids</strong><br />\nWhile the pups play\, little ones can get creative with hands-on projects.</p>\n\n<p style="margin-left:unset\; margin-right:unset"><strong>Treats for Everyone</strong><br />\nSweet bites and goodies to keep the evening extra fun.</p>\n
LOCATION:1023 Caroline st\, Fredericksburg Va 22401
UID:e.492.14988
SEQUENCE:3
DTSTAMP:20260421T210907Z
URL:https://members.fredericksburgchamber.org/events/details/pups-pours-pages-first-friday-14988
END:VEVENT

END:VCALENDAR
