BEGIN:VCALENDAR
VERSION:2.0
PRODID:-//ChamberMaster//Event Calendar 2.0//EN
METHOD:PUBLISH
X-PUBLISHED-TTL:P3D
REFRESH-INTERVAL:P3D
CALSCALE:GREGORIAN
BEGIN:VEVENT
DTSTART:20230610T160000Z
DTEND:20230610T190000Z
X-MICROSOFT-CDO-ALLDAYEVENT:FALSE
SUMMARY:Purple Lemonade Stand to benefit the Alzheimer's Association
DESCRIPTION:Swing by Spring Arbor Cottage for an ice-cold purple lemonade! All proceeds benefit the local Walk to End Alzheimer's. Come learn why purple is the color associated with Alzheimer's Disease and support a worthy cause!
X-ALT-DESC;FMTTYPE=text/html:Swing by Spring Arbor Cottage for an ice-cold purple lemonade! All proceeds benefit the local Walk to End Alzheimer&#39\;s. Come learn why purple is the color associated with Alzheimer&#39\;s Disease and support a worthy cause!&nbsp\;
LOCATION:1804 Bragg Rd Fredericksburg\, VA 22407
UID:e.492.13594
SEQUENCE:3
DTSTAMP:20260422T072137Z
URL:https://members.fredericksburgchamber.org/events/details/purple-lemonade-stand-to-benefit-the-alzheimer-s-association-13594
END:VEVENT

END:VCALENDAR
