BEGIN:VCALENDAR
VERSION:2.0
PRODID:-//ChamberMaster//Event Calendar 2.0//EN
METHOD:PUBLISH
X-PUBLISHED-TTL:P3D
REFRESH-INTERVAL:P3D
CALSCALE:GREGORIAN
BEGIN:VEVENT
DTSTART:20220917T120000Z
DTEND:20220917T170000Z
X-MICROSOFT-CDO-ALLDAYEVENT:FALSE
SUMMARY:Race to End Vet Suicide
DESCRIPTION:Sign up to volunteer or participate by visiting our website\n\nPacket pick up starts at 8am\, race to start at 8:45. This years race location is OLD MILL PARK!\n\nThe Ruyts Foundation of Veteran Suicide Prevention is hosting their 2nd Annual Race to End Veteran Suicide September 17th 2022. \n\nPricing as followed\n\n1/2 Marathon-$45 \n\n10K-$35\n\n5K-$25 \n\n1Mile-$20 \n\nAll registration will come with a medal\, shirt\, swag bag and more goodies! \n\nIf you registered and attended the race October 2nd 2021 you will get a $10 off coupon for this race.
X-ALT-DESC;FMTTYPE=text/html:<p>Sign up to volunteer or participate by visiting our website<br />\nPacket pick up starts at 8am\, race to start at 8:45. This years race location is OLD MILL PARK!</p>\n\n<p>The Ruyts Foundation of Veteran Suicide Prevention is hosting their 2nd Annual Race to End Veteran Suicide September 17th 2022.&nbsp\;</p>\n\n<p>Pricing as followed<br />\n1/2 Marathon-$45&nbsp\;<br />\n10K-$35<br />\n5K-$25&nbsp\;<br />\n1Mile-$20&nbsp\;</p>\n\n<p>All registration will come with a medal\, shirt\, swag bag and more goodies!&nbsp\;</p>\n\n<p>If you registered and attended the race October 2nd 2021 you will get a $10 off coupon for this race.</p>\n
LOCATION:Old Mill Park Fredericksburg Va 22401
UID:e.492.12295
SEQUENCE:3
DTSTAMP:20260422T225512Z
URL:https://members.fredericksburgchamber.org/events/details/race-to-end-vet-suicide-12295
END:VEVENT

END:VCALENDAR
