BEGIN:VCALENDAR
VERSION:2.0
PRODID:-//ChamberMaster//Event Calendar 2.0//EN
METHOD:PUBLISH
X-PUBLISHED-TTL:P3D
REFRESH-INTERVAL:P3D
CALSCALE:GREGORIAN
BEGIN:VEVENT
DTSTART:20240130T133000Z
DTEND:20240130T190000Z
X-MICROSOFT-CDO-ALLDAYEVENT:FALSE
SUMMARY:Regional Summit
DESCRIPTION:Regional Summit: A Facilitated Conversation \n\nThe Regional Summit provides the opportunity for influential public and private sector leaders within Planning District 16\, to come together and learn about how we can make our region more economically competitive for jobs and talent. In a post-pandemic world where businesses and people can live and work from almost anywhere\, building a stronger region has never been more important. Leaders will hear from national  expert\, Ted Abernathy\, Managing Partner\, Economic Leadership\, about our region's strengths\, challenges in a post-pandemic world and our opportunities for growth. Leaders will be engaged in breakout sessions focused on the initial key "action items" to building a more competitive region. Through this event\, businesses\, educators and community leaders will better understand regional issues\, and be engaged in solutions to build a more competitive region.\n\nKeynote Speaker/Facilitator: Ted Abernathy\, Managing Partner\, Economic Leadership\, LLC
X-ALT-DESC;FMTTYPE=text/html:Regional Summit: A Facilitated Conversation&nbsp\;<br />\nThe Regional Summit provides the opportunity for influential public and private sector leaders within Planning District 16\, to come together and learn about how we can make our region more economically competitive for jobs and talent. In a post-pandemic world where businesses and people can live and work from almost anywhere\, building a stronger region has never been more important. Leaders will hear from national&nbsp\; expert\, Ted Abernathy\, Managing Partner\, Economic Leadership\, about our region&rsquo\;s strengths\, challenges in a post-pandemic world and our opportunities for growth. Leaders will be engaged in breakout sessions focused on the initial key &ldquo\;action items&rdquo\; to building a more competitive region. Through this event\, businesses\, educators and community leaders will better understand regional issues\, and be engaged in solutions to build a more competitive region.<br />\nKeynote Speaker/Facilitator: Ted Abernathy\, Managing Partner\, Economic Leadership\, LLC
LOCATION:The Jepson Alumni Executive Center University of Mary Washington 1119 Hanover Street Fredericksburg\, Virginia 22401 Parking is on the street or in the University Tennis Center Parking Lot\, located diagonally opposite the Jepson Center just past the intersection of Hanover St. and College Ave.
UID:e.492.13663
SEQUENCE:3
DTSTAMP:20260422T004816Z
URL:https://members.fredericksburgchamber.org/events/details/regional-summit-13663
END:VEVENT

END:VCALENDAR
